BEGIN:VCALENDAR
VERSION:2.0
PRODID:-//Association Pointes de Pieds - ECPv6.15.20//NONSGML v1.0//EN
CALSCALE:GREGORIAN
METHOD:PUBLISH
X-WR-CALNAME:Association Pointes de Pieds
X-ORIGINAL-URL:https://www.pointes-de-pieds.fr
X-WR-CALDESC:Évènements pour Association Pointes de Pieds
REFRESH-INTERVAL;VALUE=DURATION:PT1H
X-Robots-Tag:noindex
X-PUBLISHED-TTL:PT1H
BEGIN:VTIMEZONE
TZID:Europe/Paris
BEGIN:DAYLIGHT
TZOFFSETFROM:+0100
TZOFFSETTO:+0200
TZNAME:CEST
DTSTART:20230326T010000
END:DAYLIGHT
BEGIN:STANDARD
TZOFFSETFROM:+0200
TZOFFSETTO:+0100
TZNAME:CET
DTSTART:20231029T010000
END:STANDARD
BEGIN:DAYLIGHT
TZOFFSETFROM:+0100
TZOFFSETTO:+0200
TZNAME:CEST
DTSTART:20240331T010000
END:DAYLIGHT
BEGIN:STANDARD
TZOFFSETFROM:+0200
TZOFFSETTO:+0100
TZNAME:CET
DTSTART:20241027T010000
END:STANDARD
BEGIN:DAYLIGHT
TZOFFSETFROM:+0100
TZOFFSETTO:+0200
TZNAME:CEST
DTSTART:20250330T010000
END:DAYLIGHT
BEGIN:STANDARD
TZOFFSETFROM:+0200
TZOFFSETTO:+0100
TZNAME:CET
DTSTART:20251026T010000
END:STANDARD
END:VTIMEZONE
BEGIN:VEVENT
DTSTART;TZID=Europe/Paris:20240421T170000
DTEND;TZID=Europe/Paris:20240426T193000
DTSTAMP:20260420T125030
CREATED:20240209T122307Z
LAST-MODIFIED:20240209T125927Z
UID:4388-1713718800-1714159800@www.pointes-de-pieds.fr
SUMMARY:Colo
DESCRIPTION:Séjour de vacances avec hébergement déclaré jeunesse et sport\, encadré par une équipe d’animateurs de l’association.
URL:https://www.pointes-de-pieds.fr/evenement/colo/
LOCATION:La grange aux paysages\, 90 rue principale\, Lorentzen\, 67430\, France
CATEGORIES:Colos
END:VEVENT
END:VCALENDAR