BEGIN:VCALENDAR
VERSION:2.0
PRODID:-//Association Pointes de Pieds - ECPv6.15.20//NONSGML v1.0//EN
CALSCALE:GREGORIAN
METHOD:PUBLISH
X-WR-CALNAME:Association Pointes de Pieds
X-ORIGINAL-URL:https://www.pointes-de-pieds.fr
X-WR-CALDESC:Évènements pour Association Pointes de Pieds
REFRESH-INTERVAL;VALUE=DURATION:PT1H
X-Robots-Tag:noindex
X-PUBLISHED-TTL:PT1H
BEGIN:VTIMEZONE
TZID:Europe/Paris
BEGIN:DAYLIGHT
TZOFFSETFROM:+0100
TZOFFSETTO:+0200
TZNAME:CEST
DTSTART:20230326T010000
END:DAYLIGHT
BEGIN:STANDARD
TZOFFSETFROM:+0200
TZOFFSETTO:+0100
TZNAME:CET
DTSTART:20231029T010000
END:STANDARD
BEGIN:DAYLIGHT
TZOFFSETFROM:+0100
TZOFFSETTO:+0200
TZNAME:CEST
DTSTART:20240331T010000
END:DAYLIGHT
BEGIN:STANDARD
TZOFFSETFROM:+0200
TZOFFSETTO:+0100
TZNAME:CET
DTSTART:20241027T010000
END:STANDARD
BEGIN:DAYLIGHT
TZOFFSETFROM:+0100
TZOFFSETTO:+0200
TZNAME:CEST
DTSTART:20250330T010000
END:DAYLIGHT
BEGIN:STANDARD
TZOFFSETFROM:+0200
TZOFFSETTO:+0100
TZNAME:CET
DTSTART:20251026T010000
END:STANDARD
END:VTIMEZONE
BEGIN:VEVENT
DTSTART;TZID=Europe/Paris:20240214T140000
DTEND;TZID=Europe/Paris:20240214T170000
DTSTAMP:20260420T161116
CREATED:20240209T121205Z
LAST-MODIFIED:20240209T125935Z
UID:4383-1707919200-1707930000@www.pointes-de-pieds.fr
SUMMARY:Carnaval
DESCRIPTION:Pointes de Pieds organise un goûter de carnaval ouvert à tous avec concours de danse et de costume.
URL:https://www.pointes-de-pieds.fr/evenement/carnaval-2/
LOCATION:La Saline\, Place du Général de Gaulle\, Soultz-sous-forêts\, 67250\, France
CATEGORIES:Évènements
END:VEVENT
BEGIN:VEVENT
DTSTART;TZID=Europe/Paris:20240216T190000
DTEND;TZID=Europe/Paris:20240216T210000
DTSTAMP:20260420T161116
CREATED:20240209T121710Z
LAST-MODIFIED:20240209T125930Z
UID:4385-1708110000-1708117200@www.pointes-de-pieds.fr
SUMMARY:Assemblée Générale
DESCRIPTION:Assemblée générale annuelle de l’association.
URL:https://www.pointes-de-pieds.fr/evenement/assemblee-generale/
LOCATION:Mairie\, salle voutée\, 2 rue des barons de fleckenstein\, Soultz-sous-Forêts\, 67250\, France
CATEGORIES:Réunions
END:VEVENT
END:VCALENDAR